BEGIN:VCALENDAR
VERSION:2.0
PRODID:-//Opleiding Vliegtuigtechniek - ECPv6.15.5//NONSGML v1.0//EN
CALSCALE:GREGORIAN
METHOD:PUBLISH
X-ORIGINAL-URL:https://vliegtuigtechniek.nl
X-WR-CALDESC:Evenementen voor Opleiding Vliegtuigtechniek
REFRESH-INTERVAL;VALUE=DURATION:PT1H
X-Robots-Tag:noindex
X-PUBLISHED-TTL:PT1H
BEGIN:VTIMEZONE
TZID:UTC
BEGIN:STANDARD
TZOFFSETFROM:+0000
TZOFFSETTO:+0000
TZNAME:UTC
DTSTART:20250101T000000
END:STANDARD
END:VTIMEZONE
BEGIN:VEVENT
DTSTART;VALUE=DATE:20260203
DTEND;VALUE=DATE:20260204
DTSTAMP:20260420T172521
CREATED:20250930T122043Z
LAST-MODIFIED:20251002T061035Z
UID:10000040-1770076800-1770163199@vliegtuigtechniek.nl
SUMMARY:Studie- en beroepenmarkt CSG Prins Maurits
DESCRIPTION:
URL:https://vliegtuigtechniek.nl/event/studie-en-beroepenmarkt-csg-prins-maurits/
LOCATION:Middelharnis\, Koningin Julianaweg 57\, 3241 XB
ATTACH;FMTTYPE=image/jpeg:https://vliegtuigtechniek.nl/wp-content/uploads/2025/09/ab26f1b4-32cc-4639-9bba-15922c6b1c91_thumb1920.jpg
END:VEVENT
BEGIN:VEVENT
DTSTART;VALUE=DATE:20251208
DTEND;VALUE=DATE:20251209
DTSTAMP:20260420T172521
CREATED:20251113T143157Z
LAST-MODIFIED:20251113T143157Z
UID:10000045-1765152000-1765238399@vliegtuigtechniek.nl
SUMMARY:Mbo banen- en voorlichtingenmarkt CSG Prins Maurits
DESCRIPTION:
URL:https://vliegtuigtechniek.nl/event/mbo-banen-en-voorlichtingenmarkt-csg-prins-maurits/
LOCATION:Middelharnis\, Koningin Julianaweg 57\, 3241 XB
ATTACH;FMTTYPE=image/jpeg:https://vliegtuigtechniek.nl/wp-content/uploads/2025/11/csg-prins-maurits.jpg
END:VEVENT
BEGIN:VEVENT
DTSTART;TZID=UTC:20250930T122448
DTEND;TZID=UTC:20250930T122448
DTSTAMP:20260420T172521
CREATED:20250930T121908Z
LAST-MODIFIED:20250930T122448Z
UID:10000039-1759235088-1759235088@vliegtuigtechniek.nl
SUMMARY:Mbo voorlichtingenmarkt CSG Prins Maurits
DESCRIPTION:
URL:https://vliegtuigtechniek.nl/event/mbo-voorlichtingenmarkt-csg-prins-maurits/
LOCATION:Middelharnis\, Koningin Julianaweg 57\, 3241 XB
ATTACH;FMTTYPE=image/jpeg:https://vliegtuigtechniek.nl/wp-content/uploads/2025/09/ab26f1b4-32cc-4639-9bba-15922c6b1c91_thumb1920.jpg
END:VEVENT
END:VCALENDAR