BEGIN:VCALENDAR
VERSION:2.0
PRODID:-//Opleiding Vliegtuigtechniek - ECPv6.15.5//NONSGML v1.0//EN
CALSCALE:GREGORIAN
METHOD:PUBLISH
X-ORIGINAL-URL:https://vliegtuigtechniek.nl
X-WR-CALDESC:Evenementen voor Opleiding Vliegtuigtechniek
REFRESH-INTERVAL;VALUE=DURATION:PT1H
X-Robots-Tag:noindex
X-PUBLISHED-TTL:PT1H
BEGIN:VTIMEZONE
TZID:UTC
BEGIN:STANDARD
TZOFFSETFROM:+0000
TZOFFSETTO:+0000
TZNAME:UTC
DTSTART:20250101T000000
END:STANDARD
END:VTIMEZONE
BEGIN:VEVENT
DTSTART;VALUE=DATE:20251127
DTEND;VALUE=DATE:20251128
DTSTAMP:20260419T200723
CREATED:20251113T134441Z
LAST-MODIFIED:20251113T134946Z
UID:10000044-1764201600-1764287999@vliegtuigtechniek.nl
SUMMARY:KSE Etten-Leur
DESCRIPTION:
URL:https://vliegtuigtechniek.nl/event/kse-etten-leur/
LOCATION:Etten-Leur\, Stijn Streuvelslaan 42\, Etten-Leur\, 4873 EB
ATTACH;FMTTYPE=image/jpeg:https://vliegtuigtechniek.nl/wp-content/uploads/2025/11/kse-etten-leur.jpg
END:VEVENT
END:VCALENDAR