BEGIN:VCALENDAR
VERSION:2.0
PRODID:-//Opleiding Vliegtuigtechniek - ECPv6.15.5//NONSGML v1.0//EN
CALSCALE:GREGORIAN
METHOD:PUBLISH
X-ORIGINAL-URL:https://vliegtuigtechniek.nl
X-WR-CALDESC:Evenementen voor Opleiding Vliegtuigtechniek
REFRESH-INTERVAL;VALUE=DURATION:PT1H
X-Robots-Tag:noindex
X-PUBLISHED-TTL:PT1H
BEGIN:VTIMEZONE
TZID:UTC
BEGIN:STANDARD
TZOFFSETFROM:+0000
TZOFFSETTO:+0000
TZNAME:UTC
DTSTART:20260101T000000
END:STANDARD
END:VTIMEZONE
BEGIN:VEVENT
DTSTART;TZID=UTC:20260108T184500
DTEND;TZID=UTC:20260108T220000
DTSTAMP:20260419T200731
CREATED:20251113T173005Z
LAST-MODIFIED:20251204T105611Z
UID:10000047-1767897900-1767909600@vliegtuigtechniek.nl
SUMMARY:Mbo informatiemarkt
DESCRIPTION:
URL:https://vliegtuigtechniek.nl/event/mbo-informatiemarkt/
LOCATION:De Campus\, Emmerweg 29/31\, Breda\, Noord-Brabant\, 4814 NA
ATTACH;FMTTYPE=image/jpeg:https://vliegtuigtechniek.nl/wp-content/uploads/2025/11/campus-markenhage.jpg
END:VEVENT
END:VCALENDAR